BEGIN:VCALENDAR
VERSION:2.0
PRODID:-//Asbury Place Home Owners Association - ECPv6.15.20//NONSGML v1.0//EN
CALSCALE:GREGORIAN
METHOD:PUBLISH
X-WR-CALNAME:Asbury Place Home Owners Association
X-ORIGINAL-URL:https://asburyplacehoa.com
X-WR-CALDESC:Events for Asbury Place Home Owners Association
REFRESH-INTERVAL;VALUE=DURATION:PT1H
X-Robots-Tag:noindex
X-PUBLISHED-TTL:PT1H
BEGIN:VTIMEZONE
TZID:America/Chicago
BEGIN:DAYLIGHT
TZOFFSETFROM:-0600
TZOFFSETTO:-0500
TZNAME:CDT
DTSTART:20120311T080000
END:DAYLIGHT
BEGIN:STANDARD
TZOFFSETFROM:-0500
TZOFFSETTO:-0600
TZNAME:CST
DTSTART:20121104T070000
END:STANDARD
BEGIN:DAYLIGHT
TZOFFSETFROM:-0600
TZOFFSETTO:-0500
TZNAME:CDT
DTSTART:20130310T080000
END:DAYLIGHT
BEGIN:STANDARD
TZOFFSETFROM:-0500
TZOFFSETTO:-0600
TZNAME:CST
DTSTART:20131103T070000
END:STANDARD
BEGIN:DAYLIGHT
TZOFFSETFROM:-0600
TZOFFSETTO:-0500
TZNAME:CDT
DTSTART:20140309T080000
END:DAYLIGHT
BEGIN:STANDARD
TZOFFSETFROM:-0500
TZOFFSETTO:-0600
TZNAME:CST
DTSTART:20141102T070000
END:STANDARD
BEGIN:DAYLIGHT
TZOFFSETFROM:-0600
TZOFFSETTO:-0500
TZNAME:CDT
DTSTART:20150308T080000
END:DAYLIGHT
BEGIN:STANDARD
TZOFFSETFROM:-0500
TZOFFSETTO:-0600
TZNAME:CST
DTSTART:20151101T070000
END:STANDARD
BEGIN:DAYLIGHT
TZOFFSETFROM:-0600
TZOFFSETTO:-0500
TZNAME:CDT
DTSTART:20160313T080000
END:DAYLIGHT
BEGIN:STANDARD
TZOFFSETFROM:-0500
TZOFFSETTO:-0600
TZNAME:CST
DTSTART:20161106T070000
END:STANDARD
BEGIN:DAYLIGHT
TZOFFSETFROM:-0600
TZOFFSETTO:-0500
TZNAME:CDT
DTSTART:20170312T080000
END:DAYLIGHT
BEGIN:STANDARD
TZOFFSETFROM:-0500
TZOFFSETTO:-0600
TZNAME:CST
DTSTART:20171105T070000
END:STANDARD
BEGIN:DAYLIGHT
TZOFFSETFROM:-0600
TZOFFSETTO:-0500
TZNAME:CDT
DTSTART:20180311T080000
END:DAYLIGHT
BEGIN:STANDARD
TZOFFSETFROM:-0500
TZOFFSETTO:-0600
TZNAME:CST
DTSTART:20181104T070000
END:STANDARD
END:VTIMEZONE
BEGIN:VEVENT
DTSTART;TZID=America/Chicago:20171216T180000
DTEND;TZID=America/Chicago:20171216T180000
DTSTAMP:20260424T103255
CREATED:20171107T035004Z
LAST-MODIFIED:20171107T035004Z
UID:343-1513447200-1513447200@asburyplacehoa.com
SUMMARY:Holiday Social
DESCRIPTION:
URL:https://asburyplacehoa.com/event/holiday-social/
LOCATION:Whispering Woods
END:VEVENT
BEGIN:VEVENT
DTSTART;TZID=America/Chicago:20160514T070000
DTEND;TZID=America/Chicago:20160514T140000
DTSTAMP:20260424T103255
CREATED:20160419T191748Z
LAST-MODIFIED:20160419T191748Z
UID:208-1463209200-1463234400@asburyplacehoa.com
SUMMARY:Subdivision Garage Sale
DESCRIPTION:Come to our Sudivision Garage Sale!  7:00 Am – 2:00 PM.
URL:https://asburyplacehoa.com/event/subdivision-garage-sale/
LOCATION:Asbury Place Subdivion
END:VEVENT
BEGIN:VEVENT
DTSTART;TZID=America/Chicago:20141205T180000
DTEND;TZID=America/Chicago:20141205T200000
DTSTAMP:20260424T103255
CREATED:20141203T180106Z
LAST-MODIFIED:20141203T180106Z
UID:194-1417802400-1417809600@asburyplacehoa.com
SUMMARY:2014 Holiday Social
DESCRIPTION:2014 Holiday Social \nDate: Friday December 5th \nTime 6:0o p.m. to 8:00 p.m.
URL:https://asburyplacehoa.com/event/2014-holiday-social/
LOCATION:Comfort Suites\, 6921 Parkwood Drive\, Olive Branch\, MS\, 38654\, United States
CATEGORIES:Holiday Social
ATTACH;FMTTYPE=image/png:https://asburyplacehoa.com/wp-content/uploads/2014/12/EventPhotoFull_Picture1.png
END:VEVENT
BEGIN:VEVENT
DTSTART;TZID=America/Chicago:20131012T080000
DTEND;TZID=America/Chicago:20131012T170000
DTSTAMP:20260424T103255
CREATED:20130515T201658Z
LAST-MODIFIED:20130515T201658Z
UID:69-1381564800-1381597200@asburyplacehoa.com
SUMMARY:Annual Cookout
DESCRIPTION:Annual Cookout
URL:https://asburyplacehoa.com/event/annual-cookout/
END:VEVENT
BEGIN:VEVENT
DTSTART;TZID=America/Chicago:20130822T080000
DTEND;TZID=America/Chicago:20130822T170000
DTSTAMP:20260424T103255
CREATED:20130515T201559Z
LAST-MODIFIED:20130515T201621Z
UID:66-1377158400-1377190800@asburyplacehoa.com
SUMMARY:Mid Year Meeting
DESCRIPTION:Mid Year Meeting
URL:https://asburyplacehoa.com/event/mid-year-meeting/
LOCATION:Life Fellowship Church\, 7790 Davidson Rd\, Olive Branch\, MS\,  38654\, United States
END:VEVENT
BEGIN:VEVENT
DTSTART;VALUE=DATE:20130515
DTEND;VALUE=DATE:20130516
DTSTAMP:20260424T103255
CREATED:20130515T201128Z
LAST-MODIFIED:20130515T201128Z
UID:64-1368576000-1368662399@asburyplacehoa.com
SUMMARY:Earth Day
DESCRIPTION:Ashbury Place Earth Day Celebration
URL:https://asburyplacehoa.com/event/earth-day/
END:VEVENT
END:VCALENDAR